BEGIN:VCALENDAR
VERSION:2.0
PRODID:-//Events Plugin//NONSGML v1.0//EN
CALSCALE:GREGORIAN
METHOD:PUBLISH
BEGIN:VEVENT
UID:915f39f52d09054b9b2a40d4c2f458af@heklan.is
DTSTAMP:20260419T152054Z
DTSTART:20260930
DTEND:20261001
SUMMARY:Askur
DESCRIPTION:Askur mannvirkjarannsóknasjóður veitir styrki til nýsköpunar – og mannvirkjarannsókna með áherslu á aukna þekkingu\\, umbætur og nýsköpun til að mæta samfélagslegum áskorunum á sviði mannvirkjagerðar. Opnað er fyrir umsóknir í lok
URL:https://heklan.is/vidburdir/askur/
END:VEVENT
END:VCALENDAR
