BEGIN:VCALENDAR
VERSION:2.0
PRODID:-//Events Plugin//NONSGML v1.0//EN
CALSCALE:GREGORIAN
METHOD:PUBLISH
BEGIN:VEVENT
UID:f858355eefc8d3aa5bcb70599cadc532@heklan.is
DTSTAMP:20260419T152401Z
DTSTART:20270331
DTEND:20270401
SUMMARY:Atvinnumál kvenna 🦸‍♀️
DESCRIPTION:Styrkjum til atvinnumála kvenna er úthlutað einu sinni á ári en þeir eru ætlaðir konum sem eru að vinna að viðskiptahugmynd eða þróa verkefni.  Markmiði er að auka aðgengi frumkvöðlakvenna að fjármagni. Hámarksstyrkur er 4 milljónir
URL:https://heklan.is/vidburdir/atvinnumal-kvenna-2/
END:VEVENT
END:VCALENDAR
