BEGIN:VCALENDAR
VERSION:2.0
PRODID:-//Events Plugin//NONSGML v1.0//EN
CALSCALE:GREGORIAN
METHOD:PUBLISH
BEGIN:VEVENT
UID:529e7f2ee82079898d1009921fc8eca4@heklan.is
DTSTAMP:20260419T152249Z
DTSTART:20260930
DTEND:20261001
SUMMARY:Borgarsjóður 🏙
DESCRIPTION:Borgarsjóður veitir styrki til félagasamtaka\\, fyrirtækja og einstaklinga til starfsemi og verkefna í samræmi við stefnumörkun og áherslur borgaryfirvalda.  Umsóknarfrestur: ~ sep. 2026
URL:https://heklan.is/vidburdir/borgarsjodur/
END:VEVENT
END:VCALENDAR
