BEGIN:VCALENDAR
VERSION:2.0
PRODID:-//Events Plugin//NONSGML v1.0//EN
CALSCALE:GREGORIAN
METHOD:PUBLISH
BEGIN:VEVENT
UID:c086aafba37e847f30b62cd7754a21cb@heklan.is
DTSTAMP:20260419T170835Z
DTSTART:20260303T120000
DTEND:20260303T130000
SUMMARY:Forvitnir frumkvöðlar: Stafræn markaðssetning fyrir smærri fyrirtæki
DESCRIPTION:Næsti viðburður í röðinni Forvitnir frumkvöðlar verður haldinn 3. mars kl. 12:00 og að þessu sinni er það Auður Ösp Ólafsdóttir sem stígur á svið. Auður er sjálfstætt starfandi ráðgjafi og markaðsstjóri hjá Keeps CMS\\, með yf
URL:https://heklan.is/vidburdir/forvitnir-frumkvodlar-stafraen-markadssetning-fyrir-smaerri-fyrirtaeki/
END:VEVENT
END:VCALENDAR
