BEGIN:VCALENDAR
VERSION:2.0
PRODID:-//Events Plugin//NONSGML v1.0//EN
CALSCALE:GREGORIAN
METHOD:PUBLISH
BEGIN:VEVENT
UID:7a23dc09e90d31db1d5f2898adc4c7f0@heklan.is
DTSTAMP:20260419T134526Z
DTSTART:20260630
DTEND:20260701
SUMMARY:FrumkvöðlaAuður 🦸‍♀️
DESCRIPTION:Markmið sjóðsins er að hvetja konur til athafna og frumkvæðis og leggur áherslu á frumkvöðlastarf kvenna.  Umsóknarfrestur: ~ jún. 2026
URL:https://heklan.is/vidburdir/frumkvodlaaudur/
END:VEVENT
END:VCALENDAR
