BEGIN:VCALENDAR
VERSION:2.0
PRODID:-//Events Plugin//NONSGML v1.0//EN
CALSCALE:GREGORIAN
METHOD:PUBLISH
BEGIN:VEVENT
UID:834964974bdb8495ecc75beb0b4832ce@heklan.is
DTSTAMP:20260419T152244Z
DTSTART:20261031
DTEND:20261101
SUMMARY:Frumkvöðlasjóður Íslandsbanka 🏦
DESCRIPTION:Frumkvöðlasjóður Íslandsbanka styrkir frumkvöðla og sprotafyrirtæki sem styðja við þau fjögur heimsmarkmið Sameinuðu þjóðanna sem bankinn hefur valið að leggja sérstaka áherslu á: menntun fyrir alla\\, jafnrétti kynjanna\\, nýsköp
URL:https://heklan.is/vidburdir/frumkvodlasjodur-islandsbanka/
END:VEVENT
END:VCALENDAR
