BEGIN:VCALENDAR
VERSION:2.0
PRODID:-//Events Plugin//NONSGML v1.0//EN
CALSCALE:GREGORIAN
METHOD:PUBLISH
BEGIN:VEVENT
UID:d7205157780e256df850a1bf8b29216e@heklan.is
DTSTAMP:20260419T134557Z
DTSTART:20260430
DTEND:20260501
SUMMARY:Jafnréttissjóður Íslands ⚖️
DESCRIPTION:Sjóðurinn sem er á vegum Rannís styrkir verkefni og rannsóknir sem miða að því að stuðla að jafnrétti kynjanna í íslensku samfélagi og á alþjóðavísu.  Umsóknarfrestur: ~ apr. 2026
URL:https://heklan.is/vidburdir/jafnrettissjodur-islands/
END:VEVENT
END:VCALENDAR
