BEGIN:VCALENDAR
VERSION:2.0
PRODID:-//Events Plugin//NONSGML v1.0//EN
CALSCALE:GREGORIAN
METHOD:PUBLISH
BEGIN:VEVENT
UID:7b9c5ca6dc80c780f8b8039ced100767@heklan.is
DTSTAMP:20260419T152233Z
DTSTART:20270331
DTEND:20270401
SUMMARY:Lóa - nýsköpunarstyrkir fyrir landsbyggðina 👩‍🌾
DESCRIPTION:Styrkjum er úthlutað til nýsköpunarverkefna utan höfuðborgarasvæðisins. Áhersla er á að styðja við atvinnulíf og verðmætasköpun sem og stuðla að uppbyggingu vistkerfis fyrir nýsköpunarstarfsemi.  Umsóknarfrestur: ~ mar. 2027
URL:https://heklan.is/vidburdir/loa-nyskopunarstyrkir-fyrir-landsbyggdina-3/
END:VEVENT
END:VCALENDAR
