BEGIN:VCALENDAR
VERSION:2.0
PRODID:-//Events Plugin//NONSGML v1.0//EN
CALSCALE:GREGORIAN
METHOD:PUBLISH
BEGIN:VEVENT
UID:157b3a1abb766d3b49c44f6048c54827@heklan.is
DTSTAMP:20260419T170931Z
DTSTART:20260331
DTEND:20260401
SUMMARY:Lóa - nýsköpunarstyrkir fyrir landsbyggðina 👩‍🌾
DESCRIPTION:Styrkjum er úthlutað til nýsköpunarverkefna utan höfuðborgarasvæðisins. Áhersla er á að styðja við atvinnulíf og verðmætasköpun sem og stuðla að uppbyggingu vistkerfis fyrir nýsköpunarstarfsemi.  Umsóknarfrestur: ~ mar. 2026
URL:https://heklan.is/vidburdir/loa-nyskopunarstyrkir-fyrir-landsbyggdina/
END:VEVENT
END:VCALENDAR
