BEGIN:VCALENDAR
VERSION:2.0
PRODID:-//Events Plugin//NONSGML v1.0//EN
CALSCALE:GREGORIAN
METHOD:PUBLISH
BEGIN:VEVENT
UID:8f9badeae8e51a6ff38ce924564a2be4@heklan.is
DTSTAMP:20260419T134521Z
DTSTART:20260630
DTEND:20260701
SUMMARY:Loftslagssjóður ⛅️
DESCRIPTION:Styrkir annars vegar nýsköpunarverkefni sem skila samdrætti í losun gróðurhúsalofttegunda og hins vegar kynningar og fræðsluverkefni sem eru til þess fallin að virkja almenning og atvinnulíf til aðgerða.  Umsóknarfrestur: ~ jún. 2026
URL:https://heklan.is/vidburdir/loftslagssjodur/
END:VEVENT
END:VCALENDAR
