BEGIN:VCALENDAR
VERSION:2.0
PRODID:-//Events Plugin//NONSGML v1.0//EN
CALSCALE:GREGORIAN
METHOD:PUBLISH
BEGIN:VEVENT
UID:028e478fd7e808bf5cfc5e51ab55ec9a@heklan.is
DTSTAMP:20260419T134726Z
DTSTART:20260915
DTEND:20260916
SUMMARY:Markaður - Tækniþróunarsjóður ⚙️
DESCRIPTION:Markaðsstyrkur fyrir lítil og meðalstór sem verja að lágmarki 10% af rekstrargjöldum til rannsókna- eða þróunarstarfs. Hægt að sækja um styrk fyrir markaðsþróun eða markaðssókn.  Umsóknarfrestur: 2026-09-15
URL:https://heklan.is/vidburdir/markadur-taeknithrounarsjodur/
END:VEVENT
END:VCALENDAR
