BEGIN:VCALENDAR
VERSION:2.0
PRODID:-//Events Plugin//NONSGML v1.0//EN
CALSCALE:GREGORIAN
METHOD:PUBLISH
BEGIN:VEVENT
UID:2f22e6bcc49f29e597a61070f464df54@heklan.is
DTSTAMP:20260419T134839Z
DTSTART:20260915
DTEND:20260916
SUMMARY:Rannsóknarverkefni - Tækniþróunarsjóður ⚙️
DESCRIPTION:Hagnýt rannsóknarverkefni hafa það að markmiði að afla nýrrar þekkingar og kunnáttu sem nýtist til að þróa nýjar vörur\\, verkferla eða þjónustu.  Umsóknarfrestur: 2026-09-15
URL:https://heklan.is/vidburdir/rannsoknarverkefni-taeknithrounarsjodur/
END:VEVENT
END:VCALENDAR
