BEGIN:VCALENDAR
VERSION:2.0
PRODID:-//Events Plugin//NONSGML v1.0//EN
CALSCALE:GREGORIAN
METHOD:PUBLISH
BEGIN:VEVENT
UID:d5c29246e786084fa73607fecf32540b@heklan.is
DTSTAMP:20260419T152105Z
DTSTART:20260930
DTEND:20261001
SUMMARY:Samfélagssjóður BYKO 🔨
DESCRIPTION:Samfélagssjóðurinn styður við verkefni sem samræmast stefnu félagsins og heimsmarkmiðum sem félagið starfar eftir.  Umsóknarfrestur: 2026-09-30
URL:https://heklan.is/vidburdir/samfelagssjodur-byko-2/
END:VEVENT
END:VCALENDAR
