BEGIN:VCALENDAR
VERSION:2.0
PRODID:-//Events Plugin//NONSGML v1.0//EN
CALSCALE:GREGORIAN
METHOD:PUBLISH
BEGIN:VEVENT
UID:75b49b361cd6b6a17432cefe943e7f41@heklan.is
DTSTAMP:20260419T170103Z
DTSTART:20270331
DTEND:20270401
SUMMARY:Samfélagssjóður BYKO 🔨
DESCRIPTION:Samfélagssjóðurinn styður við verkefni sem samræmast stefnu félagsins og heimsmarkmiðum sem félagið starfar eftir.  Umsóknarfrestur: ~ mar. 2027
URL:https://heklan.is/vidburdir/samfelagssjodur-byko/
END:VEVENT
END:VCALENDAR
