BEGIN:VCALENDAR
VERSION:2.0
PRODID:-//Events Plugin//NONSGML v1.0//EN
CALSCALE:GREGORIAN
METHOD:PUBLISH
BEGIN:VEVENT
UID:48df5ef7379120a9ab6b7c144400ede6@heklan.is
DTSTAMP:20260419T152054Z
DTSTART:20260415
DTEND:20260416
SUMMARY:Samfélagssjóður EFLU 👷‍♀️
DESCRIPTION:EFLA veitir styrki til uppbyggjandi og jákvæðra verkefna\\, sem nýtast samfélaginu. Markmiðið með styrkjunum er að styðja við framtak einstaklinga og hópa sem stuðla að farsælli þróun samfélagsins\\, lífsgæðum og fjölbreyttu mannlíf
URL:https://heklan.is/vidburdir/samfelagssjodur-eflu/
END:VEVENT
END:VCALENDAR
