BEGIN:VCALENDAR
VERSION:2.0
PRODID:-//Events Plugin//NONSGML v1.0//EN
CALSCALE:GREGORIAN
METHOD:PUBLISH
BEGIN:VEVENT
UID:4b557d351c34c3f786e3167d72756753@heklan.is
DTSTAMP:20260419T152732Z
DTSTART:20261031
DTEND:20261101
SUMMARY:Samfélagssjóður HS Orku
DESCRIPTION:Samfélagssjóður HS Orku hefur það að markmiði að styðja við samfélagslega jákvæð verkefni einstaklinga eða hópa og eru styrkir veittir tvisvar sinnum á ári.  Umsóknarfrestur: ~ okt. 2026
URL:https://heklan.is/vidburdir/samfelagssjodur-hs-orku/
END:VEVENT
END:VCALENDAR
