BEGIN:VCALENDAR
VERSION:2.0
PRODID:-//Events Plugin//NONSGML v1.0//EN
CALSCALE:GREGORIAN
METHOD:PUBLISH
BEGIN:VEVENT
UID:43c7d5e470d5f89372bfd4d4c5b0d25a@heklan.is
DTSTAMP:20260419T152855Z
DTSTART:20261031
DTEND:20261101
SUMMARY:Samfélagsstyrkir Landsbankans 🏦
DESCRIPTION:Samfélagsstyrkir til að styðja við verkefni á ýmsum svipum þar á meðal rannsókna og vísinda og á sviði umhverfismála og náttúruverndar.  Umsóknarfrestur: ~ okt. 2026
URL:https://heklan.is/vidburdir/samfelagsstyrkir-landsbankans/
END:VEVENT
END:VCALENDAR
