BEGIN:VCALENDAR
VERSION:2.0
PRODID:-//Events Plugin//NONSGML v1.0//EN
CALSCALE:GREGORIAN
METHOD:PUBLISH
BEGIN:VEVENT
UID:f7bcff1e449a0687982d5abfb8d6024a@heklan.is
DTSTAMP:20260419T152233Z
DTSTART:20260930
DTEND:20261001
SUMMARY:Samfélagsstyrkur Krónunnar 🌱
DESCRIPTION:Stefna Krónunnar er að styrkja verkefni sem hvetja til hreyfingu og hollustu barna og/eða uppbyggingar í samfélaginu\\, t.d.  á sviði menningar og lista eða menntunar.  Umsóknarfrestur: ~ sep. 2026
URL:https://heklan.is/vidburdir/samfelagsstyrkur-kronunnar/
END:VEVENT
END:VCALENDAR
