BEGIN:VCALENDAR
VERSION:2.0
PRODID:-//Events Plugin//NONSGML v1.0//EN
CALSCALE:GREGORIAN
METHOD:PUBLISH
BEGIN:VEVENT
UID:f50cb3b8ae1a7a096936734853331b53@heklan.is
DTSTAMP:20260419T143627Z
DTSTART:20260224T083000
DTEND:20260224T101500
SUMMARY:Samtal um skapandi greinar
DESCRIPTION:skapandi greinar. Að þessu sinni verða engin formleg erindi eða pallborð. Í staðinn einblínum við alfarið á opið samtal og að skapa rými þar sem þátttakendur geta rætt bæði sín á milli og við okkur. Fundurinn fer fram í CCP í Gró
LOCATION:Bjargargata 3
URL:https://heklan.is/vidburdir/samtal-um-skapandi-greinar/
END:VEVENT
END:VCALENDAR
