BEGIN:VCALENDAR
VERSION:2.0
PRODID:-//Events Plugin//NONSGML v1.0//EN
CALSCALE:GREGORIAN
METHOD:PUBLISH
BEGIN:VEVENT
UID:e74570638afbb382c0f3b14c989acb11@heklan.is
DTSTAMP:20260419T134552Z
DTSTART:20260915
DTEND:20260916
SUMMARY:Sproti - Tækniþróunarsjóður ⚙️
DESCRIPTION:Fyrir ung nýsköpunarfyrirtæki og frumkvöðla til að styðja við verkefni á byrjunarstigi. Hámarksstyrkur 20 milljónir á tveimur árum.  Umsóknarfrestur: 2026-09-15
URL:https://heklan.is/vidburdir/sproti-taeknithrounarsjodur/
END:VEVENT
END:VCALENDAR
