BEGIN:VCALENDAR
VERSION:2.0
PRODID:-//Events Plugin//NONSGML v1.0//EN
CALSCALE:GREGORIAN
METHOD:PUBLISH
BEGIN:VEVENT
UID:728deb50ddb1ceb2baae3b707dd033ce@heklan.is
DTSTAMP:20260419T152536Z
DTSTART:20260930
DTEND:20261001
SUMMARY:Styrktarsjóður geðheilbrigðis
DESCRIPTION:Styrktarsjóður geðheilbrigðis veitir styrki til verkefna og rannsókna sem stuðla að nýsköpun og framþróun í geðheilbrigðismálum. Markmið sjóðsins er að bæta geðheilbrigði landsmanna\\, auka skilning á málaflokknum og styðja við n
URL:https://heklan.is/vidburdir/styrktarsjodur-gedheilbrigdis/
END:VEVENT
END:VCALENDAR
