BEGIN:VCALENDAR
VERSION:2.0
PRODID:-//Events Plugin//NONSGML v1.0//EN
CALSCALE:GREGORIAN
METHOD:PUBLISH
BEGIN:VEVENT
UID:30c08748d19c612c65568f884949e2de@heklan.is
DTSTAMP:20260419T170537Z
DTSTART:20270131
DTEND:20270201
SUMMARY:Vísinda- og rannsóknasjóður Suðurlands
DESCRIPTION:Vísinda- og rannsóknarsjóður Suðurlands veitir styrki sem ætlaðir eru námsfólki sem vinnur að rannsóknarverkefni til lokaprófs á háskólastigi\\, þar með talið verkefna er tengjast nýsköpun. Verkefnin sem sótt er um þurfa að tengjast
URL:https://heklan.is/vidburdir/visinda-og-rannsoknasjodur-sudurlands/
END:VEVENT
END:VCALENDAR
