BEGIN:VCALENDAR
VERSION:2.0
PRODID:-//Events Plugin//NONSGML v1.0//EN
CALSCALE:GREGORIAN
METHOD:PUBLISH
BEGIN:VEVENT
UID:a0032fcb3e5466d7809a93cd044901b7@heklan.is
DTSTAMP:20260419T134731Z
DTSTART:20260915
DTEND:20260916
SUMMARY:Vöxtur / Sprettur - Tækniþróunarsjóður ⚙️
DESCRIPTION:Fyrir lítil og meðalstór fyrirtæki. Hámarksstyrkur 50-70 milljónir á tveimur árum.  Umsóknarfrestur: 2026-09-15
URL:https://heklan.is/vidburdir/voxtur-sprettur-taeknithrounarsjodur/
END:VEVENT
END:VCALENDAR
