BEGIN:VCALENDAR
VERSION:2.0
PRODID:-//Events Plugin//NONSGML v1.0//EN
CALSCALE:GREGORIAN
METHOD:PUBLISH
BEGIN:VEVENT
UID:12820b2179f72484d8022d33c4f1ae16@heklan.is
DTSTAMP:20260419T161247Z
DTSTART:20270228
DTEND:20270301
SUMMARY:Matvælasjóður 🌽
DESCRIPTION:Styrkir þróun og nýsköpun við framleiðslu og vinnslu matvæla og hliðarafurða úr landbúnaðar- og sjávarafurðum. Áhersla lögð á nýsköpun\\, sjálfbærni og verðmætasköpun.  Umsóknarfrestur: ~ feb. 2027
URL:https://heklan.is/vidburdir/matvaelasjodur/
END:VEVENT
END:VCALENDAR
