BEGIN:VCALENDAR
VERSION:2.0
PRODID:-//Events Plugin//NONSGML v1.0//EN
CALSCALE:GREGORIAN
METHOD:PUBLISH
BEGIN:VEVENT
UID:3384f23477b447af16fc5b1de6995503@heklan.is
DTSTAMP:20260419T161821Z
DTSTART:20270131
DTEND:20270201
SUMMARY:Orkurannsóknasjóður ⚡️
DESCRIPTION:Sjóðurinn styrkir almenn rannsóknarverkefni á sviði umhverfis og orkumála. Styrkir eru veittir til námsmanna og rannsóknaverkefna á vegum háskóla\\, stofnana\\, fyrirtækja og einstaklinga.  Umsóknarfrestur: ~ jan. 2027
URL:https://heklan.is/vidburdir/orkurannsoknasjodur/
END:VEVENT
END:VCALENDAR
