BEGIN:VCALENDAR
VERSION:2.0
PRODID:-//Events Plugin//NONSGML v1.0//EN
CALSCALE:GREGORIAN
METHOD:PUBLISH
BEGIN:VEVENT
UID:ee07a601f79c86c720ac4c65dda4dded@heklan.is
DTSTAMP:20260419T143606Z
DTSTART:20261015
DTEND:20261016
SUMMARY:Samfélagssjóður EFLU 👷‍♀️
DESCRIPTION:EFLA veitir styrki til uppbyggjandi og jákvæðra verkefna\\, sem nýtast samfélaginu. Markmiðið með styrkjunum er að styðja við framtak einstaklinga og hópa sem stuðla að farsælli þróun samfélagsins\\, lífsgæðum og fjölbreyttu mannlíf
URL:https://heklan.is/vidburdir/samfelagssjodur-eflu-2/
END:VEVENT
END:VCALENDAR
