BEGIN:VCALENDAR
VERSION:2.0
PRODID:-//Events Plugin//NONSGML v1.0//EN
CALSCALE:GREGORIAN
METHOD:PUBLISH
BEGIN:VEVENT
UID:e0cdc98b4f2260b6c062f8d86d76f07f@heklan.is
DTSTAMP:20260421T084353Z
DTSTART:20261130
DTEND:20261201
SUMMARY:Samfélagssjóður Sjóvá
DESCRIPTION:Áhersla er lögð á verkefni sem tengjast forvörnum\\, heilsu og hreyfingu\\, sem og þátttöku almennings í samfélagsverkefnum.  Umsóknarfrestur: ~ nóv. 2026
URL:https://heklan.is/vidburdir/samfelagssjodur-sjova/
END:VEVENT
END:VCALENDAR
