BEGIN:VCALENDAR
VERSION:2.0
PRODID:-//Events Plugin//NONSGML v1.0//EN
CALSCALE:GREGORIAN
METHOD:PUBLISH
BEGIN:VEVENT
UID:5615193a84beae45455dffc2f0ff3426@heklan.is
DTSTAMP:20260419T162830Z
DTSTART:20261231
DTEND:20270101
SUMMARY:Skerfur - Máltækni
DESCRIPTION:Skerfur\\, styrktarsjóður á vegum Almannaróms\\, úthlutar styrki til verkefna sem styðja við innleiðingu eða þróun hagnýtra endalausna sem byggja á íslenskri máltækni.   Umsóknarfrestur: ~ des. 2026
URL:https://heklan.is/vidburdir/skerfur-maltaekni/
END:VEVENT
END:VCALENDAR
