BEGIN:VCALENDAR
VERSION:2.0
PRODID:-//Events Plugin//NONSGML v1.0//EN
CALSCALE:GREGORIAN
METHOD:PUBLISH
BEGIN:VEVENT
UID:7da181e0e02199c3bb3a8466a960ac09@heklan.is
DTSTAMP:20260419T161246Z
DTSTART:20270131
DTEND:20270201
SUMMARY:Uppsprettan - Hagar 🌶
DESCRIPTION:Nýsköpunarsjóður sem styður við frumkvöðla til nýsköpunar og þróunar í íslenskri matvælaframleiðslu. Áhersla er lögð á verkefni sem taka tillit til sjálfbærni og styðja við innlenda framleiðslu.  Umsóknarfrestur: ~ jan. 2027
URL:https://heklan.is/vidburdir/uppsprettan-hagar/
END:VEVENT
END:VCALENDAR
